BEGIN:VCALENDAR
VERSION:2.0
PRODID:-//eventon.com NONSGML v1.0//EN
CALSCALE:GREGORIAN
METHOD:PUBLISH
BEGIN:VEVENT
UID:69e5e49ca7cec
DTSTAMP:20260420T083228Z
DTSTART:20250419T130000Z
DTEND:20250419T190000Z
LOCATION:Bar O Rodeo Estates 126 Radcliff Road\,  Palatka\,  FL 32177
SUMMARY:Bar O Vintage Market - Easter Edition
DESCRIPTION:📅 Saturday\,  April 19 ⏰ 9:00 am &#8211; 3:00 pm 📍 Bar 
 O Rodeo Estates (126 Radcliff Road\,  Palatka\,  FL\,  32177) Easter Bunny 
 Pictures Child &amp; Adult Egg Hunt! 60+ Vendors Food Trucks *Rain or Shine
 * Click Here to View More Information\nhttps://visitpalatka.com/events/bar-
 o-vintage-market-easter-edition/
URL:https://visitpalatka.com/events/bar-o-vintage-market-easter-edition/
END:VEVENT
END:VCALENDAR