BEGIN:VCALENDAR
VERSION:2.0
PRODID:-//eventon.com NONSGML v1.0//EN
CALSCALE:GREGORIAN
METHOD:PUBLISH
BEGIN:VEVENT
UID:69ece74f54fad
DTSTAMP:20260425T160951Z
DTSTART:20250503T115500Z
DTEND:20250504T035900Z
LOCATION:
SUMMARY:71st Annual Mug Race
DESCRIPTION:The world&#8217;s longest river race! 📅 Saturday\,  May 3 
  7:55 am 📍 Memorial Bridge\,  Palatka\,  FL Established in 1957\,  the 
 Mug Race is a cherished tradition that challenges sailors as they navigate 
 the St. Johns River from Palatka to Jacksonville. Drawing competitors from 
 across the region\,  this thrilling race[..]\nhttps://visitpalatka.com/even
 ts/the-mug-race/
URL:https://visitpalatka.com/events/the-mug-race/
END:VEVENT
END:VCALENDAR