BEGIN:VCALENDAR
VERSION:2.0
PRODID:-//eventon.com NONSGML v1.0//EN
CALSCALE:GREGORIAN
METHOD:PUBLISH
BEGIN:VEVENT
UID:69ea3419ca8eb
DTSTAMP:20260423T150041Z
DTSTART:20250322T150000Z
DTEND:20250322T180000Z
LOCATION:Pineland Lodge 86 F&amp;AM 190 E Peniel Rd\,  Palatka\,  FL
SUMMARY:Fish Fry
DESCRIPTION:📅 Saturday\,  March 22 ⏰ 11:00 am &#8211; 2:00 pm 📍 Pin
 eland Masonic Lodge No. 86 F&amp;AM (190 East Peniel Road\,  Palatka\,  FL 
 32177) &nbsp; All proceeds from the fundraiser go to the Pineland Lodge gen
 eral fund! &nbsp; $12.00 per Dinner\,  $12.50 with a Credit Card Baked Bean
 s\,  Coleslaw\,  Cheese[..]\nhttps://visitpalatka.com/events/fish-fry/
URL:https://visitpalatka.com/events/fish-fry/
END:VEVENT
END:VCALENDAR