BEGIN:VCALENDAR
VERSION:2.0
PRODID:-//eventon.com NONSGML v1.0//EN
CALSCALE:GREGORIAN
METHOD:PUBLISH
BEGIN:VEVENT
UID:69eca52ab409a
DTSTAMP:20260425T112738Z
DTSTART:20251009
DTEND:20251010
LOCATION:Palatka Golf Club 1715 Moseley Ave\,  Palatka\,  FL 32177
SUMMARY:100th Anniversary Golf Tournament
DESCRIPTION:📅 Thursday\,  October 9 &#8211; Saturday\,  October 11 📍 
 Palatka Golf Club (1715 Moseley Ave\,  Palatka\,  FL 32177) &nbsp; Palatka 
 Golf Club\,  a historic course designed by legendary architect Donald Ross 
 in 1925\,  is celebrating its 100th anniversary with a special three-day go
 lf tournament. Golfers and enthusiasts are invited to[..]\nhttps://visitpal
 atka.com/events/100th-anniversary-golf-tournament/
URL:https://visitpalatka.com/events/100th-anniversary-golf-tournament/
END:VEVENT
END:VCALENDAR