BEGIN:VCALENDAR
VERSION:2.0
PRODID:-//eventon.com NONSGML v1.0//EN
CALSCALE:GREGORIAN
METHOD:PUBLISH
BEGIN:VEVENT
UID:69e4d22a312b6
DTSTAMP:20260419T130130Z
DTSTART:20251018T160000Z
DTEND:20251018T220000Z
LOCATION:Putnam County Fairgrounds 118 Fairgrounds Road\,  East Palatka\,  FL 32131
SUMMARY:The Madd Monsters Halloween Market
DESCRIPTION:📅 Saturday\,  October 18 ⏰ 12:00 pm – 6:00 pm 📍 Putna
 m County Fairgrounds (118 Fairgrounds Road\,  East Palatka\,  FL 32131) &nb
 sp; Monster Museum Food Trucks Live Music Trick-Or-Treating Photo Ops Give-
 A-Ways &amp; More! &nbsp; 🔗 Click Here for More Information\nhttps://vis
 itpalatka.com/events/the-madd-monsters-halloween-market/
URL:https://visitpalatka.com/events/the-madd-monsters-halloween-market/
END:VEVENT
END:VCALENDAR