BEGIN:VCALENDAR
VERSION:2.0
PRODID:-//eventon.com NONSGML v1.0//EN
CALSCALE:GREGORIAN
METHOD:PUBLISH
BEGIN:VEVENT
UID:69e5128a3a2b4
DTSTAMP:20260419T173610Z
DTSTART:20260307T140000Z
DTEND:20260307T190000Z
LOCATION:Putnam County Courthouse 410 St Johns Ave\,  Palatka\,  FL 32177
SUMMARY:Palatka Farmers Market
DESCRIPTION:📅 Saturday\,  March 7 ⏰ 9:00 pm &#8211; 2:00 pm 📍 Putna
 m County Courthouse (410 St Johns Ave\,  Palatka\,  FL 32177) &nbsp; Discov
 er local flavor\,  creativity\,  and community at the Palatka Farmers Marke
 t\,  located in the heart of historic downtown Palatka. Our open-air market
  brings together local farmers\,  makers\,  and[..]\nhttps://visitpalatka.c
 om/events/palatka-farmers-market-0307/
URL:https://visitpalatka.com/events/palatka-farmers-market-0307/
END:VEVENT
END:VCALENDAR