BEGIN:VCALENDAR
VERSION:2.0
PRODID:-//eventon.com NONSGML v1.0//EN
CALSCALE:GREGORIAN
METHOD:PUBLISH
BEGIN:VEVENT
UID:69e4700ec34b3
DTSTAMP:20260419T060254Z
DTSTART:20260225T130000Z
DTEND:20260228T230000Z
LOCATION:
SUMMARY:Florida Z Fest
DESCRIPTION:Florida Z Fest is the ultimate Nissan/Datsun/Infiniti enthusias
 t event happening in North Florida! Mark your calendars for February 25–2
 8\,  2026\,  as we take over Palatka\,  FL with sun\,  cars\,  and plenty o
 f Z-community fun! &nbsp; Great vibes\,  palm trees\,  ocean breezes\,  and
  a little Florida flair! &nbsp; This year\,  we’re[..]\nhttps://visitpala
 tka.com/events/florida-z-fest/
URL:https://visitpalatka.com/events/florida-z-fest/
END:VEVENT
END:VCALENDAR