BEGIN:VCALENDAR
VERSION:2.0
PRODID:-//eventon.com NONSGML v1.0//EN
CALSCALE:GREGORIAN
METHOD:PUBLISH
BEGIN:VEVENT
UID:69e72dbec12f8
DTSTAMP:20260421T075646Z
DTSTART:20260321T140000Z
DTEND:20260322T035900Z
LOCATION:Ravine Gardens State Park 1600 Twigg Street\,  Palatka\,  FL 32177
SUMMARY:Ranger Read Along
DESCRIPTION:One Saturday a Month 10:00 AM Ravine Gardens State Park Free wi
 th Park Admission\nhttps://visitpalatka.com/events/ranger-read-along-5/
URL:https://visitpalatka.com/events/ranger-read-along-5/
END:VEVENT
END:VCALENDAR