BEGIN:VCALENDAR
VERSION:2.0
PRODID:-//eventon.com NONSGML v1.0//EN
CALSCALE:GREGORIAN
METHOD:PUBLISH
BEGIN:VEVENT
UID:69e72dbec10be
DTSTAMP:20260421T075646Z
DTSTART:20251101T130000Z
DTEND:20251102T035900Z
LOCATION:Palatka Golf Club 1715 Moseley Ave\,  Palatka\,  FL 32177
SUMMARY:Toys for Tots Charity Golf Classic
DESCRIPTION:November 1st\,  2025 at Palatka Golf Club 1715 Moseley Ave\,  P
 alatka\,  FL 32177 Format: Four Person Scramble Cost: $300 &#8211; Foursome
  $75 &#8211; Individual Sponsorship Opportunities Available Schedule of Eve
 nts: 8:00AM &#8211; Registration 9:00AM &#8211; Shotgun Start Awards Ceremo
 ny to follow If you have any questions\,  please reach out to:[..]\nhttps:/
 /visitpalatka.com/events/toys-for-tots-charity-golf-classic/
URL:https://visitpalatka.com/events/toys-for-tots-charity-golf-classic/
END:VEVENT
END:VCALENDAR