BEGIN:VCALENDAR
VERSION:2.0
PRODID:-//eventon.com NONSGML v1.0//EN
CALSCALE:GREGORIAN
METHOD:PUBLISH
BEGIN:VEVENT
UID:69e5121914c64
DTSTAMP:20260419T173417Z
DTSTART:20260301T200000Z
DTEND:20260302T045900Z
LOCATION:
SUMMARY:Acoustic Circle Songwriter Showcase
DESCRIPTION:A Collaborative performance of local songwriters and the storie
 s behind their music &#8211; in the intimate setting of the Larimer Arts Ce
 nter.\nhttps://visitpalatka.com/events/acoustic-circle-songwriter-showcase/
URL:https://visitpalatka.com/events/acoustic-circle-songwriter-showcase/
END:VEVENT
END:VCALENDAR