BEGIN:VCALENDAR
VERSION:2.0
PRODID:-//eventon.com NONSGML v1.0//EN
CALSCALE:GREGORIAN
METHOD:PUBLISH
BEGIN:VEVENT
UID:69e5142c66f0c
DTSTAMP:20260419T174308Z
DTSTART:20260228T180000Z
DTEND:20260301T045900Z
LOCATION:Triangle Park Carter Road
SUMMARY:The Liberty Tree of Putnam Dedication
DESCRIPTION:Celebrate 250 years of American Independence! Join the Sons and
  Daughters of the American Revolution along with the Palatka Sunrise Rotary
  Club in dedicating a corner of Triangle Park as a memorium to the men and 
 women who risked all they had to establish a country where freedom runs sup
 reme.[..]\nhttps://visitpalatka.com/events/the-liberty-tree-of-putnam-dedic
 ation/
URL:https://visitpalatka.com/events/the-liberty-tree-of-putnam-dedication/
END:VEVENT
END:VCALENDAR