BEGIN:VCALENDAR
VERSION:2.0
PRODID:-//eventon.com NONSGML v1.0//EN
CALSCALE:GREGORIAN
METHOD:PUBLISH
BEGIN:VEVENT
UID:69e4d60b0befe
DTSTAMP:20260419T131803Z
DTSTART:20260321T090000Z
DTEND:20260321T190000Z
LOCATION:Palatka City Dock 301 River Street\,  Palatka\,  FL 32177
SUMMARY:11th Annual Rodeheaver Boys Ranch Bass Fishing Tournament
DESCRIPTION:Â 11th ANNUAL RODEHEAVER BOYS RANCH BENEFIT BASS TOURNAMENTÂ  Â
  Palatka City Docks | Palatka\,  FLÂ Saturday\,  March 21\,  2026Â Safe lig
 ht until 3:00 PM Â $130 per boatâ€¢ 2 anglers per boatâ€¢ 5-fish limitâ€¢ T
 op 10 payouts + Big Bass prizes Â PAYOUTSÂ 1st Place â€“ $6\, 000Â 2nd Plac
 e â€“ $3\, 000Â 3rd Place â€“ $1\, 5004th â€“ $1\, 0005th â€“[..]\nhttps://
 visitpalatka.com/events/11th-annual-rodeheaver-boys-ranch-bass-fishing-tour
 nament/
URL:https://visitpalatka.com/events/11th-annual-rodeheaver-boys-ranch-bass-fishing-tournament/
END:VEVENT
END:VCALENDAR